View In:
ArcGIS JavaScript
ArcGIS Online Map Viewer
ArcGIS Earth
ArcMap
View Footprint In:
ArcGIS Online Map Viewer
Service Description: UAP/UAP_KK_problemy_2013
Name: UAP/UAP_KK_problemy_2013
Description:
Single Fused Map Cache: false
Extent:
XMin: -911815.5895382069
YMin: -1048346.0929117443
XMax: -820326.980691636
YMax: -983335.0968122996
Spatial Reference: 102067
(5514)
Initial Extent:
XMin: -911815.5895382069
YMin: -1048346.0929117443
XMax: -820326.980691636
YMax: -983335.0968122996
Spatial Reference: 102067
(5514)
Full Extent:
XMin: -911815.5895382069
YMin: -1048346.0929117443
XMax: -820326.980691636
YMax: -983335.0968122996
Spatial Reference: 102067
(5514)
Pixel Size X: 2.116273249440701
Pixel Size Y: 2.1172082361572557
Band Count: 3
Pixel Type: U8
RasterFunction Infos: {"rasterFunctionInfos": [{
"name": "None",
"description": "",
"help": ""
}]}
Mensuration Capabilities: Basic
Has Histograms: true
Has Colormap: false
Has Multi Dimensions : false
Rendering Rule:
Min Scale: 0
Max Scale: 0
Copyright Text:
Service Data Type: esriImageServiceDataTypeRGB
Min Values: 0, 0, 0
Max Values: 255, 255, 255
Mean Values: 245.32184027403, 241.46054523634, 224.79752286522
Standard Deviation Values: 33.827147602833, 46.423211352107, 40.727777101849
Object ID Field:
Fields:
None
Default Mosaic Method: Center
Allowed Mosaic Methods:
SortField:
SortValue: null
Mosaic Operator: First
Default Compression Quality: 75
Default Resampling Method: Bilinear
Max Record Count: null
Max Image Height: 4100
Max Image Width: 15000
Max Download Image Count: null
Max Mosaic Image Count: null
Allow Raster Function: true
Allow Compute TiePoints: false
Supports Statistics: false
Supports Advanced Queries: false
Use StandardizedQueries: true
Raster Type Infos:
Name: Raster Dataset
Description: Supports all ArcGIS Raster Datasets
Help:
Has Raster Attribute Table: false
Edit Fields Info: null
Ownership Based AccessControl For Rasters: null
Child Resources:
Info
Histograms
Key Properties
Legend
MultiDimensionalInfo
rasterFunctionInfos
Supported Operations:
Export Image
Identify
Measure
Compute Histograms
Compute Statistics Histograms
Get Samples
Compute Class Statistics
Query Boundary
Compute Pixel Location