View In:
ArcGIS JavaScript
ArcGIS Online Map Viewer
ArcGIS Earth
ArcMap
View Footprint In:
ArcGIS Online Map Viewer
Service Description: UAP/UAP_KK_limity_2013
Name: UAP/UAP_KK_limity_2013
Description:
Single Fused Map Cache: false
Extent:
XMin: -911832.1144880706
YMin: -1048122.5154627748
XMax: -820297.3452660451
YMax: -983102.3372392387
Spatial Reference: 102067
(5514)
Initial Extent:
XMin: -911832.1144880706
YMin: -1048122.5154627748
XMax: -820297.3452660451
YMax: -983102.3372392387
Spatial Reference: 102067
(5514)
Full Extent:
XMin: -911832.1144880706
YMin: -1048122.5154627748
XMax: -820297.3452660451
YMax: -983102.3372392387
Spatial Reference: 102067
(5514)
Pixel Size X: 2.117341010432919
Pixel Size Y: 2.117507269704166
Band Count: 3
Pixel Type: U8
RasterFunction Infos: {"rasterFunctionInfos": [{
"name": "None",
"description": "",
"help": ""
}]}
Mensuration Capabilities:
Has Histograms: true
Has Colormap: false
Has Multi Dimensions : false
Rendering Rule:
Min Scale: 0
Max Scale: 0
Copyright Text:
Service Data Type: esriImageServiceDataTypeRGB
Min Values: 0, 0, 0
Max Values: 255, 255, 255
Mean Values: 216.11671084667, 222.99555455652, 184.58817853707
Standard Deviation Values: 81.162379662883, 65.424501163213, 84.508003220245
Object ID Field:
Fields:
None
Default Mosaic Method: Center
Allowed Mosaic Methods:
SortField:
SortValue: null
Mosaic Operator: First
Default Compression Quality: 75
Default Resampling Method: Bilinear
Max Record Count: null
Max Image Height: 4100
Max Image Width: 15000
Max Download Image Count: null
Max Mosaic Image Count: null
Allow Raster Function: true
Allow Compute TiePoints: false
Supports Statistics: false
Supports Advanced Queries: false
Use StandardizedQueries: true
Raster Type Infos:
Name: Raster Dataset
Description: Supports all ArcGIS Raster Datasets
Help:
Has Raster Attribute Table: false
Edit Fields Info: null
Ownership Based AccessControl For Rasters: null
Child Resources:
Info
Histograms
Key Properties
Legend
MultiDimensionalInfo
rasterFunctionInfos
Supported Operations:
Export Image
Identify
Compute Histograms
Compute Statistics Histograms
Get Samples
Compute Class Statistics
Query Boundary
Compute Pixel Location