View In:
ArcGIS JavaScript
ArcGIS Online Map Viewer
ArcGIS Earth
ArcMap
View Footprint In:
ArcGIS Online Map Viewer
Service Description: 3D Raster Karlovarského kraje vytvořený z bodového pole (DMT, Vrstevnice,..)
Name: Image/Raster3D
Description: 3D Raster Karlovarského kraje vytvořený z bodového pole (DMT, Vrstevnice,..)
Single Fused Map Cache: false
Extent:
XMin: -904580
YMin: -1046180
XMax: -821755
YMax: -985220
Spatial Reference: 102067
(5514)
Initial Extent:
XMin: -904580
YMin: -1046180
XMax: -821755
YMax: -985220
Spatial Reference: 102067
(5514)
Full Extent:
XMin: -904580
YMin: -1046180
XMax: -821755
YMax: -985220
Spatial Reference: 102067
(5514)
Pixel Size X: 0.5
Pixel Size Y: 0.5
Band Count: 1
Pixel Type: F32
RasterFunction Infos: {"rasterFunctionInfos": [{
"name": "None",
"description": "",
"help": ""
}]}
Mensuration Capabilities: Basic
Has Histograms: false
Has Colormap: false
Has Multi Dimensions : false
Rendering Rule:
Min Scale: 0
Max Scale: 0
Copyright Text:
Service Data Type: esriImageServiceDataTypeGeneric
Min Values: 276.44689941406
Max Values: 1242.7440185547
Mean Values: 618.24352788659
Standard Deviation Values: 139.02395892118
Object ID Field:
Fields:
None
Default Mosaic Method: Center
Allowed Mosaic Methods:
SortField:
SortValue: null
Mosaic Operator: First
Default Compression Quality: 75
Default Resampling Method: Bilinear
Max Record Count: null
Max Image Height: 4100
Max Image Width: 15000
Max Download Image Count: null
Max Mosaic Image Count: null
Allow Raster Function: true
Allow Compute TiePoints: false
Supports Statistics: false
Supports Advanced Queries: false
Use StandardizedQueries: true
Raster Type Infos:
Name: Raster Dataset
Description: Supports all ArcGIS Raster Datasets
Help:
Has Raster Attribute Table: false
Edit Fields Info: null
Ownership Based AccessControl For Rasters: null
Child Resources:
Info
Key Properties
Legend
MultiDimensionalInfo
rasterFunctionInfos
Supported Operations:
Export Image
Identify
Measure
Compute Histograms
Compute Statistics Histograms
Get Samples
Compute Class Statistics
Query Boundary
Compute Pixel Location