{
 "currentVersion": 10.71,
 "serviceDescription": "UAP/UAP_KK_zamery_2013",
 "name": "UAP/UAP_KK_zamery_2013",
 "description": "",
 "extent": {
  "xmin": -911863.9647074488,
  "ymin": -1048367.9572100922,
  "xmax": -820255.3315194573,
  "ymax": -983265.6411618856,
  "spatialReference": {
   "wkid": 102067,
   "latestWkid": 5514
  }
 },
 "initialExtent": {
  "xmin": -911863.9647074488,
  "ymin": -1048367.9572100922,
  "xmax": -820255.3315194573,
  "ymax": -983265.6411618856,
  "spatialReference": {
   "wkid": 102067,
   "latestWkid": 5514
  }
 },
 "fullExtent": {
  "xmin": -911863.9647074488,
  "ymin": -1048367.9572100922,
  "xmax": -820255.3315194573,
  "ymax": -983265.6411618856,
  "spatialReference": {
   "wkid": 102067,
   "latestWkid": 5514
  }
 },
 "pixelSizeX": 2.119049598389849,
 "pixelSizeY": 2.120182246082415,
 "bandCount": 3,
 "pixelType": "U8",
 "minPixelSize": 0,
 "maxPixelSize": 0,
 "copyrightText": "",
 "serviceDataType": "esriImageServiceDataTypeRGB",
 "minValues": [
  0,
  0,
  0
 ],
 "maxValues": [
  255,
  255,
  255
 ],
 "meanValues": [
  244.56234995991,
  243.77583214091,
  217.58646124005
 ],
 "stdvValues": [
  31.128862038219,
  35.7097359206,
  36.212880225412
 ],
 "objectIdField": "",
 "fields": [],
 "capabilities": "Image,Metadata,Mensuration",
 "defaultMosaicMethod": "Center",
 "allowedMosaicMethods": "",
 "sortField": "",
 "sortValue": null,
 "mosaicOperator": "First",
 "defaultCompressionQuality": 75,
 "defaultResamplingMethod": "Bilinear",
 "maxImageHeight": 4100,
 "maxImageWidth": 15000,
 "allowRasterFunction": true,
 "rasterFunctionInfos": [
  {
   "name": "None",
   "description": "",
   "help": ""
  }
 ],
 "rasterTypeInfos": [
  {
   "name": "Raster Dataset",
   "description": "Supports all ArcGIS Raster Datasets",
   "help": ""
  }
 ],
 "mensurationCapabilities": "Basic",
 "hasHistograms": true,
 "hasColormap": false,
 "hasRasterAttributeTable": false,
 "minScale": 0,
 "maxScale": 0,
 "exportTilesAllowed": false,
 "hasMultidimensions": false,
 "supportsStatistics": false,
 "supportsAdvancedQueries": false,
 "editFieldsInfo": null,
 "ownershipBasedAccessControlForRasters": null,
 "allowComputeTiePoints": false,
 "useStandardizedQueries": true,
 "advancedQueryCapabilities": {
  "useStandardizedQueries": true,
  "supportsStatistics": false,
  "supportsOrderBy": false,
  "supportsDistinct": false,
  "supportsPagination": false
 },
 "spatialReference": {
  "wkid": 102067,
  "latestWkid": 5514
 }
}
